BEGIN:VCALENDAR
VERSION:2.0
PRODID:-//wp-events-plugin.com//7.2.3.1//EN
BEGIN:VEVENT
UID:516@vcp-niedersachsen.de
DTSTART;VALUE=DATE:20260206
DTEND;VALUE=DATE:20260209
DTSTAMP:20260104T203532Z
URL:https://www.vcp-niedersachsen.de/events/woodbadge-kurs-2026/
SUMMARY:Woodbadge-Kurs 2026
DESCRIPTION:Der Woodbadge-Kurs ist eine weltweit anerkannte Schulung für P
 fadis mit Leitungsfunktionen und findet 2026 zum zweiten Mal bei uns im VC
 P Land Niedersachsen statt! Der Kurs ist auf drei Wochenenden aufgeteilt u
 nd bietet dir die Möglichkeit\, dich genauer mit deiner Rolle als Leitung
  zu beschäftigen\, unsere Arbeit im VCP genau zu durchdenken und dein eig
 enes Projekt durchzuführen:\n\n6. bis 8. Februar im Schullandheim Estetal
  parallel zum Führen und Leiten und Großen Jurtendach\n30. April bis 3. 
 Mai im Heinrich-Karsch-Haus Hösseringen\n30. Oktober bis 1. November im J
 ugendgästehaus Alfeld\n\nWer kann mitmachen?\nAlle mit Leitungsaufgaben a
 uf Stammes- oder Bezirksebene ab 18 Jahren mit Juleica-Ausbildung.\n\nKost
 en: 180 € für alle drei Wochenenden zusammen (bei Bedarf könnt ihr in 
 Teilbeträgen zahlen\, meldet euch dazu gerne)\n\nMeldet euch bei Fragen e
 infach direkt bei uns\, wir freuen uns auf euch!\nSteffen\, Fridi\, Aaron\
 , Malte\, Manuel
ATTACH;FMTTYPE=image/jpeg:https://www.vcp-niedersachsen.de/wp-content/uplo
 ads/2025/11/WhatsApp-Image-2025-11-07-at-18.45.151.jpeg
CATEGORIES:Schulungen
LOCATION:Schullandheim Estetal\, Estetal 9\, Kakenstorf\, 21255 \, Deutschl
 and
GEO:53.31014;9.752748
X-APPLE-STRUCTURED-LOCATION;VALUE=URI;X-ADDRESS=Estetal 9\, Kakenstorf\, 21
 255 \, Deutschland;X-APPLE-RADIUS=100;X-TITLE=Schullandheim Estetal:geo:53
 .31014,9.752748
END:VEVENT
END:VCALENDAR