BEGIN:VCALENDAR
VERSION:2.0
PRODID:-//wp-events-plugin.com//7.2.3.1//EN
BEGIN:VEVENT
UID:271@vcp-niedersachsen.de
DTSTART;VALUE=DATE:20211126
DTEND;VALUE=DATE:20211129
DTSTAMP:20211025T085452Z
URL:https://www.vcp-niedersachsen.de/events/weihnachtskothe/
SUMMARY:Weihnachtskothe
DESCRIPTION:Stammes-Jahresplanung\, Weihnachtsgeschenke basteln\, Spielesem
 inar\, BuLa-Ideenschmiede - alles ist möglich an diesem Wochenende in Ver
 den. Bringt eure Ideen und Projekte mit\, trefft euch mit anderen Pfadfind
 er:innen zum Austausch und verbringt ein gemütliches adventliches Wochene
 nde im Sachsenhain. Fragen und Anregungen gerne per Mail an ll@vcpnds.de.
CATEGORIES:Schulungen
LOCATION:Evangelischer Jugendhof Sachsenhain\, Am Jugendhof 17\, Verden (Al
 ler)\, Deutschland
GEO:52.94829;9.22381
X-APPLE-STRUCTURED-LOCATION;VALUE=URI;X-ADDRESS=Am Jugendhof 17\, Verden (A
 ller)\, Deutschland;X-APPLE-RADIUS=100;X-TITLE=Evangelischer Jugendhof Sac
 hsenhain:geo:52.94829,9.22381
END:VEVENT
END:VCALENDAR