BEGIN:VCALENDAR
VERSION:2.0
PRODID:-//wp-events-plugin.com//7.2.3.1//EN
BEGIN:VEVENT
UID:480@vcp-niedersachsen.de
DTSTART;VALUE=DATE:20250829
DTEND;VALUE=DATE:20250830
DTSTAMP:20250828T150743Z
URL:https://www.vcp-niedersachsen.de/events/metern-3/
SUMMARY:Metern
DESCRIPTION:
ATTACH;FMTTYPE=image/jpeg:https://www.vcp-niedersachsen.de/wp-content/uplo
 ads/2024/12/Metern2025.jpg
CATEGORIES:Sonstige Veranstaltungen
LOCATION:VCP Südstadtbüro Meterstraße\, Meterstraße 16\, Hannover\, Nie
 dersachsen\, 30169\, Deutschland
X-APPLE-STRUCTURED-LOCATION;VALUE=URI;X-ADDRESS=Meterstraße 16\, Hannover\
 , Niedersachsen\, 30169\, Deutschland;X-APPLE-RADIUS=100;X-TITLE=VCP Süds
 tadtbüro Meterstraße:geo:0,0
END:VEVENT
END:VCALENDAR