BEGIN:VCALENDAR
VERSION:2.0
PRODID:-//wp-events-plugin.com//7.2.3.1//EN
BEGIN:VEVENT
UID:515@vcp-niedersachsen.de
DTSTART;VALUE=DATE:20261002
DTEND;VALUE=DATE:20261005
DTSTAMP:20251105T090936Z
URL:https://www.vcp-niedersachsen.de/events/landesrat-4-2026/
SUMMARY:Landesrat 4 - 2026
DESCRIPTION:
CATEGORIES:Gremien
LOCATION:Tagungshaus Gleisdreieck\, Borriesstraße 28\, Hannover\, 30519\, 
 Deutschland
GEO:52.3477663;9.773034499999994
X-APPLE-STRUCTURED-LOCATION;VALUE=URI;X-ADDRESS=Borriesstraße 28\, Hannove
 r\, 30519\, Deutschland;X-APPLE-RADIUS=100;X-TITLE=Tagungshaus Gleisdreiec
 k:geo:52.3477663,9.773034499999994
END:VEVENT
END:VCALENDAR