BEGIN:VCALENDAR
VERSION:2.0
PRODID:-//wp-events-plugin.com//7.2.3.1//EN
BEGIN:VEVENT
UID:251@vcp-niedersachsen.de
DTSTART;VALUE=DATE:20210329
DTEND;VALUE=DATE:20210402
DTSTAMP:20210318T114511Z
URL:https://www.vcp-niedersachsen.de/events/landeskinderfreizeit/
SUMMARY:Landeskinderfreizeit
DESCRIPTION:Findet nicht statt!
CATEGORIES:Fahrt und Lager
END:VEVENT
END:VCALENDAR