BEGIN:VCALENDAR
VERSION:2.0
PRODID:-//wp-events-plugin.com//7.2.3.1//EN
BEGIN:VEVENT
UID:260@vcp-niedersachsen.de
DTSTART;VALUE=DATE:20210702
DTEND;VALUE=DATE:20210705
DTSTAMP:20210625T112154Z
URL:https://www.vcp-niedersachsen.de/events/erste-hilfe-kurs/
SUMMARY:Erste Hilfe für Pfadfinder:innen - Angebot 1
DESCRIPTION:Ein Unfall\, eine Unachtsamkeit\, ein unvorhersehbarer Zwischen
 fall\, ein Beinbruch im unwegsamen Gelände – Ein Schreckensszenario\, d
 as sicher schon viele Gruppenleitungen vor Augen hatten. Aber was kann man
  machen\, wenn etwas passiert?\n\nIm Zentrum des Wochenendes steht ein zer
 tifizierter Erste-Hilfe-Kurs. Darüber hinaus wird es um Besonderheiten pf
 adfinderischer Aktivitäten gehen. Hier lernt ihr etwas über\n\n 	Grundla
 gen der Ersten Hilfe und lebensrettende Sofortmaßnahmen\n 	Improvisations
 techniken\, um Erste-Hilfe-Kenntnisse situationsgerecht\n 	mit einfachsten
  Materialien zu kombinieren und weiter\nzu entwickeln\n 	Medizinische Beso
 nderheiten bei unterschiedlichen klimatischen und geografischen Bedingunge
 n auf Fahrt und Lager\n 	Sportliche Besonderheiten und Gefahrenpotentiale 
 - sei es bei Fahrrad - oder Kanutouren\, auf dem Hajk\, beim Klettern etc.
 \n\nDer Kurs deckt mindestens 9 Stunden ab\, ein Erste-Hilfe-Zertifikat wi
 rd erteilt.\n\nDie Teilnehmendenzahl ist auf 14 begrenzt\, das Wochenende 
 findet im Rahmen der geltenden niedersächsischen Verordnung und eines ent
 sprechenden Hygienekonzeptes statt\, bei Anreise am Fr. ist eine Bescheini
 gung über einen gültigen negativen Test vorzulegen.\n\nAusschreibung und
 &nbsp\;&nbsp\;Anmeldung: Druckvorlage Erste Hilfe 1 02.-04.07.21
CATEGORIES:Schulungen
LOCATION:Heinrich-Karsch-Haus Hösseringen\, Bauernstraße 13\, Suderburg\,
  29556\, Deutschland
GEO:52.85124;10.41433
X-APPLE-STRUCTURED-LOCATION;VALUE=URI;X-ADDRESS=Bauernstraße 13\, Suderbur
 g\, 29556\, Deutschland;X-APPLE-RADIUS=100;X-TITLE=Heinrich-Karsch-Haus H
 össeringen:geo:52.85124,10.41433
END:VEVENT
END:VCALENDAR