BEGIN:VCALENDAR
VERSION:2.0
PRODID:-//wp-events-plugin.com//7.2.3.1//EN
BEGIN:VEVENT
UID:498@vcp-niedersachsen.de
DTSTART;VALUE=DATE:20251017
DTEND;VALUE=DATE:20251020
DTSTAMP:20251014T121559Z
URL:https://www.vcp-niedersachsen.de/events/bula-tl-vorbereitung-i/
SUMMARY:Building Myralon – Planung von Großveranstaltungen I (BuLa Teill
 ager)
DESCRIPTION:Willkommen in Myralon!\n\nLasst uns zusammen das Teillager Nied
 ersachsen auf dem Bundeslager 2026 auf die Beine stellen – voller Magie\
 , Zauber und Abenteuer! Um unser Zauberdorf mit Leben zu füllen brauchen 
 wir euch als:\n\n 	Programmzentrumsleitung: Du bist die hauptverantwortlic
 he Person für die Planung und Koordination der Workshops im Teillager. Du
  behältst den Überblick und bist Ansprechperson für alle Workshop-Leitu
 ngen.\n 	Mitarbeiter*innen für das Programm: Gemeinsam mit einem engagier
 ten Team kümmerst du dich um kreative und spannende Programmpunkte für u
 nser Teillager.\n 	Workshopleitung: Du konzipierst und leitest einzelne Wo
 rkshops. Dabei bringst du deine Ideen\, Fähigkeiten und Interessen ein un
 d ermöglichst den Teilnehmenden großartige Erlebnisse.\n 	Merch\, Design
  und Öffentlichkeitsarbeit: Ob T-Shirts\, Social Media oder Lagerzeitung:
  Du gestaltest das Teillager mit deinem kreativen Blick nach außen.\n 	Pl
 anungsteam für Vorbereitungstreffen: Du organisierst mit anderen die Tref
 fen\, bei denen wir unser Teillager planen und uns als Team besser kennenl
 ernen.\n 	Küchenteam für Mitarbeitende: Du sorgst gemeinsam mit anderen 
 für leckeres Essen und gute Verpflegung für das Helfenden-Team.\n 	Infra
 struktur/Technik: Du kümmerst dich um alles\, was Strom\, Licht\, Aufbau\
 , Material und technische Fragen betrifft.\n 	Hilfe beim Vor- und Nachlage
 r: Du hilfst beim Errichten und Abbauen von Großkonstruktionen und sorgst
  so für einen reibungslosen Ablauf.\n 	Koordination der Teilnehmenden: Du
  behältst den Überblick über Anmeldungen\, Kochgruppen und deren Anlieg
 en – damit sich alle wohl fühlen.\n\nFahrten und Lager sind zentrale El
 emente des Pfadfindens. Nächstes Jahr findet das Bundeslager mit 4000-500
 0 Pfadis aus ganz Deutschland in Almke statt - das größte Lager in unser
 em Verband. Wir als VCP LAndesverband aus Niedersachsen bespielen wieder u
 nser eigenes Teillager. Dies nehmen wir zum Anlass die Lagerleitung\, die 
 Bereichsleitungen sowie auch alle weiteren mitarbeitenden Personen zu schu
 len. Sie sollen befähigt werden\, Großveranstaltungen und Projekte auf G
 roßveranstaltungen\, wie sie auf der Landes- und Bundesebene immer wieder
  vorkommen\, inhaltlich\, rechtlich und finanziell planen zu können. Dies
  soll in drei aufeinander aufbauenden Seminaren geschehen\, wovon dieses d
 as erste Teilmodul darstellt.\n\nModul II: 13.-15.02. Sievershausen\nModul
  III: 08.-10.05. Almke\nDie Teilnahme für Mitarbeitende ist kostenlos!\n\
 nInhalte sind unter anderem:\n\n 	Kennenlernen/Teamentwicklung\n 	Öffentl
 ichkeitsfragen\n 	Strukturierung\n 	Programmplanung\n 	Projektmanagement\n
  	Finanzplanung\n\nWenn ihr Lust habt mitzumachen\, meldet euch einfach an
  (über die Homepage oder den untern verlinkten Anmeldebogen). Wir finden 
 für alle Interessierten eine Aufgabe: Wir freuen uns über jede helfende 
 Hand\, jede*n Planer*in und jede*n Anpacker*in.\nBei Fragen meldet euch un
 ter Johannes.kornmesser@vcpnds.de – Gemeinsam schaffen wir ein unvergess
 liches Lager!\n\nEure Teillagerleitung\n\nFridde\, Steffen\, Freda\, Korni
  und Nele\n\nAnmeldebogen
ATTACH;FMTTYPE=image/jpeg:https://www.vcp-niedersachsen.de/wp-content/uplo
 ads/2025/08/DSC07933-scaled.jpg
CATEGORIES:Schulungen
LOCATION:Zentrum Pfadfinden Immenhausen (bdp)\, Kesselhaken 23\, Immenhause
 n\, Hessen\, 34376 \, Nordhessen\, Deutschland
GEO:51.438974;9.509808
X-APPLE-STRUCTURED-LOCATION;VALUE=URI;X-ADDRESS=Kesselhaken 23\, Immenhause
 n\, Hessen\, 34376 \, Nordhessen\, Deutschland;X-APPLE-RADIUS=100;X-TITLE=
 Zentrum Pfadfinden Immenhausen (bdp):geo:51.438974,9.509808
END:VEVENT
END:VCALENDAR