BEGIN:VCALENDAR
VERSION:2.0
PRODID:-//wp-events-plugin.com//7.2.3.1//EN
BEGIN:VEVENT
UID:263@vcp-niedersachsen.de
DTSTART;VALUE=DATE:20210813
DTEND;VALUE=DATE:20210816
DTSTAMP:20210720T171201Z
URL:https://www.vcp-niedersachsen.de/events/bor-rdeaux/
SUMMARY:boR/Rdeaux
DESCRIPTION:Moin liebe Ranger und Rover\,\n\nwir freuen uns euch dieses Jah
 r wieder ein boR/Rdeaux-Treffen anbieten zu können\, nachdem es letztes J
 ahr coronabedingt ausfallen musste. Dieses Jahr wird das Lager unter dem M
 otto „R/Regenbogen“ stehen und das Rahmenprogram wird dementsprechend 
 gestaltet sein. Wir werden uns mit Akzeptanz und Toleranz auseinandersetze
 n\, aber auch gerne vom Programm abweichen\, wenn ihr stattdessen Lust hab
 t etwas anderes zu machen. Aufgrund des Ausfalls letztes Jahr sind wir die
 ses Jahr besonders offen dafür\, euch an der Programmgestaltung aktiv zu 
 beteiligen\, wenn ihr das wollt.\n\nWir hoffen auf viele Anmeldungen und n
 och mehr Spaß\,\n\neure Koordinatoren oppa und Bjarne\n\n&nbsp\;\n\nAnmel
 dung rum Ausdrucken hier: Anmeldebogen boRRdeaux 13.-15.08.2021
CATEGORIES:Schulungen
LOCATION:Freizeitgelände Rotenkirchen\, QR8J+28 Einbeck\, Deutschland\, Ei
 nbeck\, Deutschland
GEO:51.7650625;9.830812499999979
X-APPLE-STRUCTURED-LOCATION;VALUE=URI;X-ADDRESS=QR8J+28 Einbeck\, Deutschla
 nd\, Einbeck\, Deutschland;X-APPLE-RADIUS=100;X-TITLE=Freizeitgelände Rot
 enkirchen:geo:51.7650625,9.830812499999979
END:VEVENT
END:VCALENDAR